BEGIN:VCALENDAR
VERSION:2.0
PRODID:-//hacksw/handcal//NONSGML v1.0//EN
BEGIN:VEVENT
DTSTAMP:20250410T223000Z
DTSTART:20250410T223000Z
DTEND:20250411T003000Z

SUMMARY:Yacht Rock Bingo & Bowling
DESCRIPTION:
END:VEVENT
END:VCALENDAR