BEGIN:VCALENDAR
VERSION:2.0
PRODID:-//hacksw/handcal//NONSGML v1.0//EN
BEGIN:VEVENT
DTSTAMP:20230729T020000Z
DTSTART:20230729T020000Z
DTEND:20230729T053000Z

SUMMARY:Taylor's Version
DESCRIPTION:Valid photo ID required at door for entryDoors: 9:00 PMShow: 10:00 PM  END:VEVENT
END:VCALENDAR