BEGIN:VCALENDAR
VERSION:2.0
PRODID:-//hacksw/handcal//NONSGML v1.0//EN
BEGIN:VEVENT
DTSTAMP:20260118T040000Z
DTSTART:20260118T040000Z
DTEND:20260118T070000Z

SUMMARY: A Celebration of the Life & Music of Bob Weir
DESCRIPTION:Come and join us for A Celebration of the Life & Music of Bob Weir with Red Eye Gin!All Ages WelcomeAccessibility accommodations are available day of show on a first come basis. 
END:VEVENT
END:VCALENDAR